BEGIN:VCALENDAR
VERSION:2.0
PRODID:-//ChamberMaster//Event Calendar 2.0//EN
METHOD:PUBLISH
X-PUBLISHED-TTL:P3D
REFRESH-INTERVAL:P3D
CALSCALE:GREGORIAN
BEGIN:VEVENT
DTSTART;VALUE=DATE:20181130
DTEND;VALUE=DATE:20181201
TRANSP:TRANSPARENT
X-MICROSOFT-CDO-ALLDAYEVENT:TRUE
SUMMARY:Test Sponsorships - Discounts for Registrations with Sponsorships
DESCRIPTION:how can we discount only a certain number of registrants for each sponsorship level - discount is the same but the number of discounts allowed differs by level of sponsorship
X-ALT-DESC;FMTTYPE=text/html:how can we discount only a certain number of registrants for each sponsorship level - discount is the same but the number of discounts allowed differs by level of sponsorship
LOCATION:
UID:e.1440.960
SEQUENCE:3
DTSTAMP:20260419T144155Z
URL:http://1440.smartcms.site/events/details/test-sponsorships-discounts-for-registrations-with-sponsorships-960
END:VEVENT

END:VCALENDAR
