BEGIN:VCALENDAR
VERSION:2.0
PRODID:-//ChamberMaster//Event Calendar 2.0//EN
METHOD:PUBLISH
X-PUBLISHED-TTL:P3D
REFRESH-INTERVAL:P3D
CALSCALE:GREGORIAN
BEGIN:VEVENT
DTSTART:20150415T150000Z
DTEND:20150415T180000Z
X-MICROSOFT-CDO-ALLDAYEVENT:FALSE
SUMMARY:Sunshine Festival
DESCRIPTION:Description:  Join us as we celebrate the impact of flowers on both people and the environment.\n\nJohn Doe will be sharing with us different ways we can maximize the impact of a flower in any size space. Spend the evening enjoying and dancing to the music of the local band\, The Buds.  Feast on edible plant dishes and other delectable items.
X-ALT-DESC;FMTTYPE=text/html:&nbsp\;<br />\n<strong>Description: &nbsp\;</strong>Join us as we celebrate the impact of flowers on both people and the environment.<br />\nJohn Doe will be sharing with us different ways we can maximize the impact of a flower in any size space. Spend the evening enjoying and dancing to the music of the local band\, The Buds.&nbsp\; Feast on edible plant dishes and other delectable items.&nbsp\;<br />\n&nbsp\;
LOCATION:Location Online training conducted using your web browser. Automatic email confirmation and reminders will be sent to you with the website and audio connection information. Join others as you watch and listen to the live demonstration and interact with Q&A.
UID:e.1440.540
SEQUENCE:3
DTSTAMP:20260422T162048Z
URL:http://1440.smartcms.site/events/details/sunshine-festival-04-15-2015-540
END:VEVENT

END:VCALENDAR
