BEGIN:VCALENDAR
VERSION:2.0
PRODID:-//ChamberMaster//Event Calendar 2.0//EN
METHOD:PUBLISH
X-PUBLISHED-TTL:P3D
REFRESH-INTERVAL:P3D
CALSCALE:GREGORIAN
BEGIN:VEVENT
DTSTART:20140829T140000Z
DTEND:20140830T030000Z
X-MICROSOFT-CDO-ALLDAYEVENT:FALSE
SUMMARY:Sunflower Festival
DESCRIPTION:
X-ALT-DESC;FMTTYPE=text/html:
LOCATION:
UID:e.1440.388
SEQUENCE:3
DTSTAMP:20260423T060800Z
URL:http://1440.smartcms.site/events/details/sunflower-festival-08-29-2014-388
END:VEVENT

END:VCALENDAR
