BEGIN:VCALENDAR
VERSION:2.0
PRODID:-//ChamberMaster//Event Calendar 2.0//EN
METHOD:PUBLISH
X-PUBLISHED-TTL:P3D
REFRESH-INTERVAL:P3D
CALSCALE:GREGORIAN
BEGIN:VEVENT
DTSTART;VALUE=DATE:20151113
DTEND;VALUE=DATE:20151114
TRANSP:TRANSPARENT
X-MICROSOFT-CDO-ALLDAYEVENT:TRUE
SUMMARY:SpringFest Artisan/Retail Vendor Application Please retain a copy of this application for your reference.
DESCRIPTION:
X-ALT-DESC;FMTTYPE=text/html:
LOCATION:
UID:e.1440.726
SEQUENCE:3
DTSTAMP:20260422T043219Z
URL:http://1440.smartcms.site/events/details/springfest-artisan-retail-vendor-application-please-retain-a-copy-of-this-application-for-your-reference-11-13-2015-726
END:VEVENT

END:VCALENDAR
