BEGIN:VCALENDAR
VERSION:2.0
PRODID:-//ChamberMaster//Event Calendar 2.0//EN
METHOD:PUBLISH
X-PUBLISHED-TTL:P3D
REFRESH-INTERVAL:P3D
CALSCALE:GREGORIAN
BEGIN:VEVENT
DTSTART:20150424T140000Z
DTEND:20150424T160000Z
X-MICROSOFT-CDO-ALLDAYEVENT:FALSE
SUMMARY:Sporadically Recurring Events
DESCRIPTION:sd
X-ALT-DESC;FMTTYPE=text/html:sd
LOCATION:sd
UID:e.1440.561
SEQUENCE:3
DTSTAMP:20260422T162947Z
URL:http://1440.smartcms.site/events/details/sporadically-recurring-events-04-24-2015-561
END:VEVENT

END:VCALENDAR
