BEGIN:VCALENDAR
VERSION:2.0
PRODID:-//ChamberMaster//Event Calendar 2.0//EN
METHOD:PUBLISH
X-PUBLISHED-TTL:P3D
REFRESH-INTERVAL:P3D
CALSCALE:GREGORIAN
BEGIN:VEVENT
DTSTART;VALUE=DATE:20150930
DTEND;VALUE=DATE:20151001
TRANSP:TRANSPARENT
X-MICROSOFT-CDO-ALLDAYEVENT:TRUE
SUMMARY:River North Business Association - Discount Issues
DESCRIPTION:testing promo code discounts
X-ALT-DESC;FMTTYPE=text/html:testing promo code discounts
LOCATION:
UID:e.1440.719
SEQUENCE:3
DTSTAMP:20260422T080107Z
URL:http://1440.smartcms.site/events/details/river-north-business-association-discount-issues-09-30-2015-719
END:VEVENT

END:VCALENDAR
