BEGIN:VCALENDAR
VERSION:2.0
PRODID:-//ChamberMaster//Event Calendar 2.0//EN
METHOD:PUBLISH
X-PUBLISHED-TTL:P3D
REFRESH-INTERVAL:P3D
CALSCALE:GREGORIAN
BEGIN:VEVENT
DTSTART;VALUE=DATE:20150729
DTEND;VALUE=DATE:20150730
TRANSP:TRANSPARENT
X-MICROSOFT-CDO-ALLDAYEVENT:TRUE
SUMMARY:Non-Member Registration OLD
DESCRIPTION:reg as non-member but not an option
X-ALT-DESC;FMTTYPE=text/html:reg as non-member but not an option
LOCATION:
UID:e.1440.587
SEQUENCE:3
DTSTAMP:20260422T111143Z
URL:http://1440.smartcms.site/events/details/non-member-registration-old-07-29-2015-587
END:VEVENT

END:VCALENDAR
