BEGIN:VCALENDAR
VERSION:2.0
PRODID:-//ChamberMaster//Event Calendar 2.0//EN
METHOD:PUBLISH
X-PUBLISHED-TTL:P3D
REFRESH-INTERVAL:P3D
CALSCALE:GREGORIAN
BEGIN:VEVENT
DTSTART;VALUE=DATE:20150724
DTEND;VALUE=DATE:20150725
TRANSP:TRANSPARENT
X-MICROSOFT-CDO-ALLDAYEVENT:TRUE
SUMMARY:Non-Member Registration NEW
DESCRIPTION:NEW
X-ALT-DESC;FMTTYPE=text/html:NEW
LOCATION:
UID:e.1440.588
SEQUENCE:3
DTSTAMP:20260422T111233Z
URL:http://1440.smartcms.site/events/details/non-member-registration-new-07-24-2015-588
END:VEVENT

END:VCALENDAR
