BEGIN:VCALENDAR
VERSION:2.0
PRODID:-//ChamberMaster//Event Calendar 2.0//EN
METHOD:PUBLISH
X-PUBLISHED-TTL:P3D
REFRESH-INTERVAL:P3D
CALSCALE:GREGORIAN
BEGIN:VEVENT
DTSTART;VALUE=DATE:20150424
DTEND;VALUE=DATE:20150425
TRANSP:TRANSPARENT
X-MICROSOFT-CDO-ALLDAYEVENT:TRUE
SUMMARY:Medina Ohio Payments
DESCRIPTION:test
X-ALT-DESC;FMTTYPE=text/html:test
LOCATION:test
UID:e.1440.575
SEQUENCE:3
DTSTAMP:20260422T161828Z
URL:http://1440.smartcms.site/events/details/medina-ohio-payments-04-24-2015-575
END:VEVENT

END:VCALENDAR
