BEGIN:VCALENDAR
VERSION:2.0
PRODID:-//ChamberMaster//Event Calendar 2.0//EN
METHOD:PUBLISH
X-PUBLISHED-TTL:P3D
REFRESH-INTERVAL:P3D
CALSCALE:GREGORIAN
BEGIN:VEVENT
DTSTART;VALUE=DATE:20150722
DTEND;VALUE=DATE:20150723
TRANSP:TRANSPARENT
X-MICROSOFT-CDO-ALLDAYEVENT:TRUE
SUMMARY:ID Main Registraion Fee for Additional Attendees
DESCRIPTION:basic fee items
X-ALT-DESC;FMTTYPE=text/html:basic fee items
LOCATION:
UID:e.1440.589
SEQUENCE:3
DTSTAMP:20260422T111142Z
URL:http://1440.smartcms.site/events/details/id-main-registraion-fee-for-additional-attendees-07-22-2015-589
END:VEVENT

END:VCALENDAR
