BEGIN:VCALENDAR
VERSION:2.0
PRODID:-//ChamberMaster//Event Calendar 2.0//EN
METHOD:PUBLISH
X-PUBLISHED-TTL:P3D
REFRESH-INTERVAL:P3D
CALSCALE:GREGORIAN
BEGIN:VEVENT
DTSTART;VALUE=DATE:20150724
DTEND;VALUE=DATE:20150725
TRANSP:TRANSPARENT
X-MICROSOFT-CDO-ALLDAYEVENT:TRUE
SUMMARY:ID Additional Fee Items for Main Registrant and then Multiple Registrants
DESCRIPTION:additional fee items
X-ALT-DESC;FMTTYPE=text/html:additional fee items
LOCATION:
UID:e.1440.590
SEQUENCE:3
DTSTAMP:20260422T111219Z
URL:http://1440.smartcms.site/events/details/id-additional-fee-items-for-main-registrant-and-then-multiple-registrants-07-24-2015-590
END:VEVENT

END:VCALENDAR
