BEGIN:VCALENDAR
VERSION:2.0
PRODID:-//ChamberMaster//Event Calendar 2.0//EN
METHOD:PUBLISH
X-PUBLISHED-TTL:P3D
REFRESH-INTERVAL:P3D
CALSCALE:GREGORIAN
BEGIN:VEVENT
DTSTART:20160729T170000Z
DTEND:20160729T170000Z
X-MICROSOFT-CDO-ALLDAYEVENT:FALSE
SUMMARY:GSDA Print Directory Test
DESCRIPTION:testing - here are some options
X-ALT-DESC;FMTTYPE=text/html:testing - here are some options
LOCATION:your placement could be...
UID:e.1440.741
SEQUENCE:3
DTSTAMP:20260421T154114Z
URL:http://1440.smartcms.site/events/details/gsda-print-directory-test-07-29-2016-741
END:VEVENT

END:VCALENDAR
