BEGIN:VCALENDAR
VERSION:2.0
PRODID:-//ChamberMaster//Event Calendar 2.0//EN
METHOD:PUBLISH
X-PUBLISHED-TTL:P3D
REFRESH-INTERVAL:P3D
CALSCALE:GREGORIAN
BEGIN:VEVENT
DTSTART:20141112T160000Z
DTEND:20141112T210000Z
X-MICROSOFT-CDO-ALLDAYEVENT:FALSE
SUMMARY:Fall Sunflower Festival TEST INDIVIDUAL
DESCRIPTION:DESCRIPTION
X-ALT-DESC;FMTTYPE=text/html:DESCRIPTION
LOCATION:LOCATION
UID:e.1440.553
SEQUENCE:3
DTSTAMP:20260423T003753Z
URL:http://1440.smartcms.site/events/details/fall-sunflower-festival-test-individual-11-12-2014-553
END:VEVENT

END:VCALENDAR
