BEGIN:VCALENDAR
VERSION:2.0
PRODID:-//ChamberMaster//Event Calendar 2.0//EN
METHOD:PUBLISH
X-PUBLISHED-TTL:P3D
REFRESH-INTERVAL:P3D
CALSCALE:GREGORIAN
BEGIN:VEVENT
DTSTART:20141105T160000Z
DTEND:20141105T210000Z
X-MICROSOFT-CDO-ALLDAYEVENT:FALSE
SUMMARY:Fall Sunflower Festival
DESCRIPTION:DESCRIPTION
X-ALT-DESC;FMTTYPE=text/html:DESCRIPTION
LOCATION:LOCATION
UID:e.1440.552
SEQUENCE:3
DTSTAMP:20260423T003623Z
URL:http://1440.smartcms.site/events/details/fall-sunflower-festival-11-05-2014-552
END:VEVENT

END:VCALENDAR
