BEGIN:VCALENDAR
VERSION:2.0
PRODID:-//ChamberMaster//Event Calendar 2.0//EN
METHOD:PUBLISH
X-PUBLISHED-TTL:P3D
REFRESH-INTERVAL:P3D
CALSCALE:GREGORIAN
BEGIN:VEVENT
DTSTART;VALUE=DATE:20140317
DTEND;VALUE=DATE:20140318
TRANSP:TRANSPARENT
X-MICROSOFT-CDO-ALLDAYEVENT:TRUE
SUMMARY:EXPO - Attendees
DESCRIPTION:this is a test\n\nthis is the event
X-ALT-DESC;FMTTYPE=text/html:<a href="http://www.chamberlogin.com">this is a test<br />\nthis is the event</a><br />\n&nbsp\;
LOCATION:this is the location field
UID:e.1440.102
SEQUENCE:3
DTSTAMP:20260423T141026Z
URL:http://1440.smartcms.site/events/details/expo-attendees-03-17-2014-102
END:VEVENT

END:VCALENDAR
