BEGIN:VCALENDAR
VERSION:2.0
PRODID:-//ChamberMaster//Event Calendar 2.0//EN
METHOD:PUBLISH
X-PUBLISHED-TTL:P3D
REFRESH-INTERVAL:P3D
CALSCALE:GREGORIAN
BEGIN:VEVENT
DTSTART:20150424T170000Z
DTEND:20150424T180000Z
X-MICROSOFT-CDO-ALLDAYEVENT:FALSE
SUMMARY:EVENTS 101 Test
DESCRIPTION:test
X-ALT-DESC;FMTTYPE=text/html:test
LOCATION:
UID:e.1440.257
SEQUENCE:3
DTSTAMP:20260422T160736Z
URL:http://1440.smartcms.site/events/details/events-101-test-04-24-2015-257
END:VEVENT

END:VCALENDAR
