BEGIN:VCALENDAR
VERSION:2.0
PRODID:-//ChamberMaster//Event Calendar 2.0//EN
METHOD:PUBLISH
X-PUBLISHED-TTL:P3D
REFRESH-INTERVAL:P3D
CALSCALE:GREGORIAN
BEGIN:VEVENT
DTSTART;VALUE=DATE:20160126
DTEND;VALUE=DATE:20160127
TRANSP:TRANSPARENT
X-MICROSOFT-CDO-ALLDAYEVENT:TRUE
SUMMARY:event 1
DESCRIPTION:event 1
X-ALT-DESC;FMTTYPE=text/html:event 1
LOCATION:
UID:e.1440.727
SEQUENCE:3
DTSTAMP:20260422T011350Z
URL:http://1440.smartcms.site/events/details/event-1-01-26-2016-727
END:VEVENT

END:VCALENDAR
