BEGIN:VCALENDAR
VERSION:2.0
PRODID:-//ChamberMaster//Event Calendar 2.0//EN
METHOD:PUBLISH
X-PUBLISHED-TTL:P3D
REFRESH-INTERVAL:P3D
CALSCALE:GREGORIAN
BEGIN:VEVENT
DTSTART;VALUE=DATE:20150731
DTEND;VALUE=DATE:20150801
TRANSP:TRANSPARENT
X-MICROSOFT-CDO-ALLDAYEVENT:TRUE
SUMMARY:Discounts Galore
DESCRIPTION:testing each discount\n\nand combinations and limiting per member/registration
X-ALT-DESC;FMTTYPE=text/html:testing each discount<br />\nand combinations and limiting per member/registration
LOCATION:
UID:e.1440.591
SEQUENCE:3
DTSTAMP:20260422T111143Z
URL:http://1440.smartcms.site/events/details/discounts-galore-07-31-2015-591
END:VEVENT

END:VCALENDAR
