BEGIN:VCALENDAR
VERSION:2.0
PRODID:-//ChamberMaster//Event Calendar 2.0//EN
METHOD:PUBLISH
X-PUBLISHED-TTL:P3D
REFRESH-INTERVAL:P3D
CALSCALE:GREGORIAN
BEGIN:VEVENT
DTSTART:20140905T150000Z
DTEND:20140905T200000Z
X-MICROSOFT-CDO-ALLDAYEVENT:FALSE
SUMMARY:Corn Fest
DESCRIPTION:this is the description
X-ALT-DESC;FMTTYPE=text/html:this is the description
LOCATION:this is the description location
UID:e.1440.387
SEQUENCE:3
DTSTAMP:20260423T040520Z
URL:http://1440.smartcms.site/events/details/corn-fest-09-05-2014-387
END:VEVENT

END:VCALENDAR
