BEGIN:VCALENDAR
VERSION:2.0
PRODID:-//ChamberMaster//Event Calendar 2.0//EN
METHOD:PUBLISH
X-PUBLISHED-TTL:P3D
REFRESH-INTERVAL:P3D
CALSCALE:GREGORIAN
BEGIN:VEVENT
DTSTART:20140906T150000Z
DTEND:20140906T190000Z
X-MICROSOFT-CDO-ALLDAYEVENT:FALSE
SUMMARY:Carnation Festival
DESCRIPTION:DESCRIPTION
X-ALT-DESC;FMTTYPE=text/html:DESCRIPTION
LOCATION:LOCATION
UID:e.1440.389
SEQUENCE:3
DTSTAMP:20260423T040836Z
URL:http://1440.smartcms.site/events/details/carnation-festival-09-06-2014-389
END:VEVENT

END:VCALENDAR
