BEGIN:VCALENDAR
VERSION:2.0
PRODID:-//ChamberMaster//Event Calendar 2.0//EN
METHOD:PUBLISH
X-PUBLISHED-TTL:P3D
REFRESH-INTERVAL:P3D
CALSCALE:GREGORIAN
BEGIN:VEVENT
DTSTART;VALUE=DATE:20150430
DTEND;VALUE=DATE:20150501
TRANSP:TRANSPARENT
X-MICROSOFT-CDO-ALLDAYEVENT:TRUE
SUMMARY:Benzie: Cherry Bowl Jubilee - TEST
DESCRIPTION:this is a test
X-ALT-DESC;FMTTYPE=text/html:this is a test&nbsp\;&nbsp\;&nbsp\;&nbsp\;&nbsp\;&nbsp\;&nbsp\;&nbsp\;
LOCATION:
UID:e.1440.573
SEQUENCE:3
DTSTAMP:20260422T160906Z
URL:http://1440.smartcms.site/events/details/benzie-cherry-bowl-jubilee-test-04-30-2015-573
END:VEVENT

END:VCALENDAR
